BEGIN:VCALENDAR
VERSION:2.0
PRODID:-//ChamberMaster//Event Calendar 2.0//EN
METHOD:PUBLISH
X-PUBLISHED-TTL:P3D
REFRESH-INTERVAL:P3D
CALSCALE:GREGORIAN
BEGIN:VEVENT
DTSTART:20250206T160000Z
DTEND:20250206T170000Z
X-MICROSOFT-CDO-ALLDAYEVENT:FALSE
SUMMARY:Government Affairs Meeting
DESCRIPTION:Please join us for a government affairs meeting on Thursday\, February 6th at 10:00 AM at the Searcy Regional Chamber of Commerce.
X-ALT-DESC;FMTTYPE=text/html:Please join us for a government affairs meeting on Thursday\, February 6th at 10:00 AM at the Searcy Regional Chamber of Commerce.
LOCATION:Searcy Regional Chamber of Commerce 2323 S. Main St.
UID:e.3436.5119625
SEQUENCE:3
DTSTAMP:20260425T005949Z
URL:https://www.searcychamber.com/events/details/government-affairs-meeting-5119625
END:VEVENT

END:VCALENDAR
